BEGIN:VCALENDAR
VERSION:2.0
PRODID:-//eventon.com NONSGML v1.0//EN
CALSCALE:GREGORIAN
METHOD:PUBLISH
BEGIN:VEVENT
UID:69e747a19d801
DTSTAMP:20260421T094713Z
DTSTART:20220603T170000Z
DTEND:20220626T150000Z
LOCATION:
SUMMARY:A Quiet Reflection
DESCRIPTION:Exhibition Runs: Fri 03 Jun - Sun 26 Jun Tues - Sun 10.30 - 3pm
  Preview Event: Fri 3rd Jun 5 - 8pm - Everyone welcome Unit 9 artist Richar
 d Mort\,  presents a wonderful portfolio of portraiture and abstract canvas
 es produced over the last few years. They show opposite strands[..]\nhttps:
 //southsquarecentre.co.uk/events/a-quiet-reflection
URL:https://southsquarecentre.co.uk/events/a-quiet-reflection
END:VEVENT
END:VCALENDAR