BEGIN:VCALENDAR
VERSION:2.0
PRODID:-//eventon.com NONSGML v1.0//EN
CALSCALE:GREGORIAN
METHOD:PUBLISH
BEGIN:VEVENT
UID:69ea136a3a088
DTSTAMP:20260423T124114Z
DTSTART:20260715T120000Z
DTEND:20260715T150000Z
LOCATION:
SUMMARY:Traditional Glass Painting Workshop
DESCRIPTION:Wednesday 15th July 20261:00 pm - 4:00 pm Explore the art of tr
 aditional glass painting in this workshop led by South Square Studio holder
 \,  Samantha Yates This hands on workshop running from 1-4pm introduces the
  techniques of traditional glass painting used in medieval and historic sta
 ined glass. Participants will explore[..]\nhttps://southsquarecentre.co.uk/
 events/traditional-glass-painting-workshop-2
URL:https://southsquarecentre.co.uk/events/traditional-glass-painting-workshop-2
END:VEVENT
END:VCALENDAR