BEGIN:VCALENDAR
VERSION:2.0
PRODID:-//eventon.com NONSGML v1.0//EN
CALSCALE:GREGORIAN
METHOD:PUBLISH
BEGIN:VEVENT
UID:69e9eeb4efb9f
DTSTAMP:20260423T100436Z
DTSTART:20260403T090000Z
DTEND:20260426T140000Z
LOCATION:
SUMMARY:Into the woods
DESCRIPTION:Artist Denise Oukhaba presents her solo exhibition. Running: Fr
 iday 3rd April to Sunday 26th April 2026 The Gallery Upstairs &nbsp; A mixe
 d media collection of works developed over the past seven years celebrating
  the discovery and exploration of Lepton Great Woods my "happy place".  Ho
 using development is literally chomping at[..]\nhttps://southsquarecentre.c
 o.uk/events/into-the-woods
URL:https://southsquarecentre.co.uk/events/into-the-woods
END:VEVENT
END:VCALENDAR