BEGIN:VCALENDAR
VERSION:2.0
PRODID:-//eventon.com NONSGML v1.0//EN
CALSCALE:GREGORIAN
METHOD:PUBLISH
BEGIN:VEVENT
UID:69eab507836c8
DTSTAMP:20260424T001047Z
DTSTART:20260606T100000Z
DTEND:20260607T150000Z
LOCATION:
SUMMARY:Thornton Art Trail
DESCRIPTION:Saturday 6th and Sunday 7th June 2026 The third Thornton Art Tr
 ail takes place over the weekend of 6 - 7th June 2026. Visitors will find a
  huge variety of art and activities in a range of venues. There’s art in 
 private houses\,  workshops in galleries\,  open studios\,  open-air art[..
 ]\nhttps://southsquarecentre.co.uk/events/thornton-art-trail-2
URL:https://southsquarecentre.co.uk/events/thornton-art-trail-2
END:VEVENT
END:VCALENDAR