BEGIN:VCALENDAR
VERSION:2.0
PRODID:-//eventon.com NONSGML v1.0//EN
CALSCALE:GREGORIAN
METHOD:PUBLISH
BEGIN:VEVENT
UID:69ea1ec9d9b0f
DTSTAMP:20260423T132945Z
DTSTART:20260509T090000Z
DTEND:20260530T140000Z
LOCATION:
SUMMARY:Set Apart
DESCRIPTION:Solo exhibition of paintings by John Allcock Running: Saturday 
 9th May - Friday 30th May 2026 The Gallery Upstairs &nbsp; Compelled by bad
  weather to take a break from a climbing trip in northern Spain\,  JohnAllc
 ock came across a group of ancient hermitages in the hills above Potes. Fas
 cinated bythe[..]\nhttps://southsquarecentre.co.uk/events/set-apart
URL:https://southsquarecentre.co.uk/events/set-apart
END:VEVENT
END:VCALENDAR