BEGIN:VCALENDAR
VERSION:2.0
PRODID:-//eventon.com NONSGML v1.0//EN
CALSCALE:GREGORIAN
METHOD:PUBLISH
BEGIN:VEVENT
UID:69ea21ccd04b5
DTSTAMP:20260423T134236Z
DTSTART:20260606T093000Z
DTEND:20260712T140000Z
LOCATION:
SUMMARY:South Square's Collage Club Exhibition
DESCRIPTION:Friday 5th June\,  6pm - 9pm Join us for the launch of the Sout
 h Square Centre Collage Club Exhibition! South Square Collage Club emerged 
 from an online collage workshop during a socially restricted Covid period i
 n May 2021 for World Collage Day. People  all over the world joined in sup
 ported[..]\nhttps://southsquarecentre.co.uk/events/south-squares-collage-cl
 ub-exhibition
URL:https://southsquarecentre.co.uk/events/south-squares-collage-club-exhibition
END:VEVENT
END:VCALENDAR