BEGIN:VCALENDAR
VERSION:2.0
PRODID:-//eventon.com NONSGML v1.0//EN
CALSCALE:GREGORIAN
METHOD:PUBLISH
BEGIN:VEVENT
UID:69ea1ec0ccec6
DTSTAMP:20260423T132936Z
DTSTART:20260606T093000Z
DTEND:20260705T140000Z
LOCATION:
SUMMARY:Beckfoot Thornton Art Year 10 Show '26
DESCRIPTION:Friday 5th June\,  4pm - 6pm Community Room Come down for the h
 ighly awaited Year 10 Art show at Beckfoot Thornton school! Students from y
 ear 10 art classes at Beckfoot Thornton have been working on a variety of d
 ifferent projects this year. For this show\,  students have expressed thems
 elves through[..]\nhttps://southsquarecentre.co.uk/events/beckfoot-thornton
 -art-year-10-show-26
URL:https://southsquarecentre.co.uk/events/beckfoot-thornton-art-year-10-show-26
END:VEVENT
END:VCALENDAR