BEGIN:VCALENDAR
VERSION:2.0
PRODID:-//eventon.com NONSGML v1.0//EN
CALSCALE:GREGORIAN
METHOD:PUBLISH
BEGIN:VEVENT
UID:69ea12e96fcd6
DTSTAMP:20260423T123905Z
DTSTART:20260526T093000Z
DTEND:20260526T113000Z
LOCATION:
SUMMARY:Kids Craft Club - Free
DESCRIPTION:Tuesday 26th May 2026\,  10:30am - 12:30pm FREE Kids Craft Drop
 -In invites you to come and play and get crafty! We will set up a craft tab
 le full of paper\,  pencils\,  scissors\,  glue\,  cardboard\,  strings and
  more\,  all for you to build\,  make and create\,  and let your imaginatio
 n run[..]\nhttps://southsquarecentre.co.uk/events/kids-craft-club-free
URL:https://southsquarecentre.co.uk/events/kids-craft-club-free
END:VEVENT
END:VCALENDAR