BEGIN:VCALENDAR
VERSION:2.0
PRODID:-//eventon.com NONSGML v1.0//EN
CALSCALE:GREGORIAN
METHOD:PUBLISH
BEGIN:VEVENT
UID:69e748d9b6df6
DTSTAMP:20260421T095225Z
DTSTART:20190619T200000Z
DTEND:20190619T213000Z
LOCATION:
SUMMARY:Tai Chi Chuan
DESCRIPTION:Learn the practice and principles behind the Chinese internal m
 artial art of Tai Chi Chuan. Each week we will focus on particular principl
 es of Yang style Tai Chi. We will learn about yin\,  yang\,  grounding\,  t
 he Five Elements\,  developing harmony and building strength through simple
  Chi Kong standing movements.\nhttps://southsquarecentre.co.uk/events/tai-c
 hi-chuan-with-clive-whittaker
URL:https://southsquarecentre.co.uk/events/tai-chi-chuan-with-clive-whittaker
END:VEVENT
END:VCALENDAR